BEGIN:VCALENDAR
VERSION:2.0
PRODID:icalendar-ruby
CALSCALE:GREGORIAN
BEGIN:VEVENT
DTSTAMP:20260420T064912Z
UID:c34f5014-b00d-430f-9e90-b251eaf09bce
DTSTART;TZID=Pacific/Auckland:20260419T143000
DTEND;TZID=Pacific/Auckland:20260419T150000
DESCRIPTION:Property ID# 606844
SUMMARY:Openhome for 3G/21 Rugby Street
END:VEVENT
END:VCALENDAR
