BEGIN:VCALENDAR
VERSION:2.0
PRODID:icalendar-ruby
CALSCALE:GREGORIAN
BEGIN:VEVENT
DTSTAMP:20260425T141015Z
UID:9445128c-748e-45e6-a9ef-6d4a7e2f76ce
DTSTART;VALUE=DATE:20260507
DESCRIPTION:Property ID# 606961\, Locatoin: Level 1\, 77 Thorndon Quay\, Th
 orndon\, Time: 2:00PM
SUMMARY:Auction for 2A Downing Street
END:VEVENT
END:VCALENDAR
