BEGIN:VCALENDAR
VERSION:2.0
PRODID:icalendar-ruby
CALSCALE:GREGORIAN
BEGIN:VEVENT
DTSTAMP:20260420T064659Z
UID:cfa1aec0-d6fa-4e33-b457-013a30184a17
DTSTART;VALUE=DATE:20260508
DESCRIPTION:Property ID# 606844\, Locatoin: Harcourts\, 59 Vivian Street\, 
 Te Aro\, Wellington\, Time: 12:00PM
SUMMARY:Auction for 3G/21 Rugby Street
END:VEVENT
END:VCALENDAR
