BEGIN:VCALENDAR
VERSION:2.0
PRODID:icalendar-ruby
CALSCALE:GREGORIAN
BEGIN:VEVENT
DTSTAMP:20260420T083802Z
UID:f220af56-b68a-4419-89b1-d2e376fa4467
DTSTART;VALUE=DATE:20260205
DESCRIPTION:Property ID# 602191\, Locatoin: 8 Kent Terrace\, Wellington\, T
 ime: 1:00PM
SUMMARY:Auction for 
END:VEVENT
END:VCALENDAR
