BEGIN:VCALENDAR
VERSION:2.0
PRODID:icalendar-ruby
CALSCALE:GREGORIAN
BEGIN:VEVENT
DTSTAMP:20260419T134904Z
UID:7f1de25b-c0cc-4d4f-8d2b-141cd4d2671e
DTSTART;VALUE=DATE:20260220
DESCRIPTION:Property ID# 602134\, Locatoin: 8 Kent Terrace\, Wellington\, T
 ime: 12:00PM
SUMMARY:Auction for 
END:VEVENT
END:VCALENDAR
