BEGIN:VCALENDAR
VERSION:2.0
PRODID:icalendar-ruby
CALSCALE:GREGORIAN
BEGIN:VEVENT
DTSTAMP:20260423T104108Z
UID:f18f4242-494c-445b-b378-e8c3ccb7561d
DTSTART;VALUE=DATE:20251016
DESCRIPTION:Property ID# 597827\, Locatoin: 8 Kent Terrace\, Wellington (wi
 ll not be sold prior)\, Time: 12:00PM
SUMMARY:Auction for 
END:VEVENT
END:VCALENDAR
