BEGIN:VCALENDAR
VERSION:2.0
PRODID:icalendar-ruby
CALSCALE:GREGORIAN
BEGIN:VEVENT
DTSTAMP:20260420T064512Z
UID:90aa207d-357c-4c83-8d88-1cc001517f64
DTSTART;VALUE=DATE:20250415
DESCRIPTION:Property ID# 590481\, Locatoin: Wellington City Harcourts 57 Vi
 vian Street\, Te Aro\, Time: 2:00PM
SUMMARY:Auction for 
END:VEVENT
END:VCALENDAR
