BEGIN:VCALENDAR
VERSION:2.0
PRODID:icalendar-ruby
CALSCALE:GREGORIAN
BEGIN:VEVENT
DTSTAMP:20260420T064906Z
UID:4d6fc978-7773-4a90-a0fb-8213d18a5249
DTSTART;VALUE=DATE:20250326
DESCRIPTION:Property ID# 589231\, Locatoin: Harcourts Wellington City Offic
 e (unless sold prior)\, Time: 2:00PM
SUMMARY:Auction for 
END:VEVENT
END:VCALENDAR
