BEGIN:VCALENDAR
VERSION:2.0
PRODID:icalendar-ruby
CALSCALE:GREGORIAN
BEGIN:VEVENT
DTSTAMP:20260423T085302Z
UID:579a44fb-6df3-48c4-a3fa-f3a3a4fdd96c
DTSTART;VALUE=DATE:20250212
DESCRIPTION:Property ID# 587171\, Time: 1:00PM
SUMMARY:Auction for 
END:VEVENT
END:VCALENDAR
