BEGIN:VCALENDAR
VERSION:2.0
PRODID:icalendar-ruby
CALSCALE:GREGORIAN
BEGIN:VEVENT
DTSTAMP:20260422T090901Z
UID:ad6ec0af-9bbd-43ec-8949-c0b20abb165a
DTSTART;VALUE=DATE:20241205
DESCRIPTION:Property ID# 584355\, Locatoin: 8 Kent Terrace\, Wellington (wi
 ll not be sold prior)\, Time: 2:00PM
SUMMARY:Auction for 
END:VEVENT
END:VCALENDAR
