BEGIN:VCALENDAR
VERSION:2.0
PRODID:icalendar-ruby
CALSCALE:GREGORIAN
BEGIN:VEVENT
DTSTAMP:20260420T084101Z
UID:c9a69d2e-47ab-454f-ab7c-d15fdcebf159
DTSTART;VALUE=DATE:20240926
DESCRIPTION:Property ID# 580510\, Locatoin: 8 Kent Terrace\, Wellington\, T
 ime: 12:00PM
SUMMARY:Auction for 
END:VEVENT
END:VCALENDAR
