BEGIN:VCALENDAR
VERSION:2.0
PRODID:icalendar-ruby
CALSCALE:GREGORIAN
BEGIN:VEVENT
DTSTAMP:20260421T144019Z
UID:72884cfd-54cc-4136-bc74-a4b32976ca18
DTSTART;VALUE=DATE:20210527
DESCRIPTION:Property ID# 508808\, Locatoin: 149 Johnsonville Road\, Johnson
 ville\, Time: 1:00PM
SUMMARY:Auction for 
END:VEVENT
END:VCALENDAR
