BEGIN:VCALENDAR
VERSION:2.0
PRODID:icalendar-ruby
CALSCALE:GREGORIAN
BEGIN:VEVENT
DTSTAMP:20260421T163225Z
UID:5b8b0141-d519-498c-9576-3427bf0fb89f
DTSTART;VALUE=DATE:20201203
DESCRIPTION:Property ID# 472890\, Locatoin: 8 Kent Terrace\, Wellington\, T
 ime: 2:00PM
SUMMARY:Auction for 
END:VEVENT
END:VCALENDAR
