BEGIN:VCALENDAR
VERSION:2.0
PRODID:icalendar-ruby
CALSCALE:GREGORIAN
BEGIN:VEVENT
DTSTAMP:20260421T163027Z
UID:5dd60cd9-4974-4f31-b568-7115771c8065
DTSTART;VALUE=DATE:20200305
DESCRIPTION:Property ID# 472885\, Locatoin: 8 Kent Terrace\, Wellington\, T
 ime: 12:00PM
SUMMARY:Auction for 
END:VEVENT
END:VCALENDAR
